BEGIN:VCALENDAR
VERSION:2.0
PRODID:-//ChamberMaster//Event Calendar 2.0//EN
METHOD:PUBLISH
X-PUBLISHED-TTL:P3D
REFRESH-INTERVAL:P3D
CALSCALE:GREGORIAN
BEGIN:VEVENT
DTSTART;VALUE=DATE:20110917
DTEND;VALUE=DATE:20110918
TRANSP:TRANSPARENT
X-MICROSOFT-CDO-ALLDAYEVENT:TRUE
SUMMARY:BHS Powder Puff Football Game
DESCRIPTION:The Beatrice High School Key Club is sponsoring the third annual Powder Puff Football game!\n\n	\n\n	Saturday\, September 17\n\n	7 pm\n\n	\n\n	Athletic Park (200 Block of N 5th Street\, Beatrice)\n\n	\n\n	Junior and Senior girls will play a flag football game while boys will provide entertainment cheerleading.  Admission is $3.  All are welcome to attend.
X-ALT-DESC;FMTTYPE=text/html:<p>\n	The Beatrice High School Key Club is sponsoring the third annual Powder Puff Football game!<br />\n	<br />\n	Saturday\, September 17<br />\n	7 pm<br />\n	<br />\n	Athletic Park (200 Block of N 5th Street\, Beatrice)<br />\n	<br />\n	Junior and Senior girls will play a flag football game while boys will provide entertainment cheerleading.&nbsp\; Admission is $3.&nbsp\; All are welcome to attend.</p>\n
LOCATION:
UID:e.41.5112
SEQUENCE:3
DTSTAMP:20260424T123323Z
URL:https://business.beatricechamber.com/events/details/bhs-powder-puff-football-game-09-17-2011-5112
END:VEVENT

END:VCALENDAR
