BEGIN:VCALENDAR
VERSION:2.0
PRODID:-//ChamberMaster//Event Calendar 2.0//EN
METHOD:PUBLISH
X-PUBLISHED-TTL:P3D
REFRESH-INTERVAL:P3D
CALSCALE:GREGORIAN
BEGIN:VEVENT
DTSTART;VALUE=DATE:20120305
DTEND;VALUE=DATE:20120306
TRANSP:TRANSPARENT
X-MICROSOFT-CDO-ALLDAYEVENT:TRUE
SUMMARY:BHS Spring Athletes Parents Meeting
DESCRIPTION:Beatrice High School spring athletes meeting\n\n	\n\n	March 5\n\n	6 pm\n\n	\n\n	Hevelone Center in Beatrice High School.\n\n	\n\n	All parents are required to attend if they did not attend a similar meeting the fall or winter. \n\n	\n\n	Individual team meetings will follow.
X-ALT-DESC;FMTTYPE=text/html:<p>\n	Beatrice High School spring athletes meeting<br />\n	<br />\n	March 5<br />\n	6 pm<br />\n	<br />\n	Hevelone Center in Beatrice High School.<br />\n	<br />\n	All parents are required to attend if they did not attend a similar meeting the fall or winter.&nbsp\;<br />\n	<br />\n	Individual team meetings will follow.</p>\n
LOCATION:
UID:e.41.5377
SEQUENCE:3
DTSTAMP:20260422T172918Z
URL:https://business.beatricechamber.com/events/details/bhs-spring-athletes-parents-meeting-03-05-2012-5377
END:VEVENT

END:VCALENDAR
