BEGIN:VCALENDAR
VERSION:2.0
PRODID:-//ChamberMaster//Event Calendar 2.0//EN
METHOD:PUBLISH
X-PUBLISHED-TTL:P3D
REFRESH-INTERVAL:P3D
CALSCALE:GREGORIAN
BEGIN:VEVENT
DTSTART;VALUE=DATE:20110514
DTEND;VALUE=DATE:20110515
TRANSP:TRANSPARENT
X-MICROSOFT-CDO-ALLDAYEVENT:TRUE
SUMMARY:Bicycle Rodeo
DESCRIPTION:Bicycle Rodeo\n\nFor all 6 thru 11 year old students\n\n\n\nSaturday\, May 14\n\nRegistration: 8:30 am\n\nRodeo: 9 am\n\n\n\nBeatrice Walmart Parking Lot (north side of store)\n\nPrizes will be presented to the winners of each age group\n\n\n\nSkill Test Includes:  Balancing at slow speeds\, Circle Riding\, Steering\, Maneuvering\, Bean Bag Throw\n\n\n\nAll registered participants will automatically be entered in a drawing for 2 bicycles (donated by Walmart)\n\n\n\nBike Inspections Available: Tires\, Brakes & adjustments\, Grease chain\, Helmets\n\nBeatrice Police Department will be available with Bicycle Safety Information.\n\n\n\nSponsored by Beatrice Optimist Club
X-ALT-DESC;FMTTYPE=text/html:<span style="font-size: 14px"><strong>Bicycle Rodeo<br />\nFor all 6 thru 11 year old students</strong><br />\n<br />\nSaturday\, May 14<br />\nRegistration: 8:30 am<br />\nRodeo: 9 am</span><br />\n<br />\nBeatrice Walmart Parking Lot (north side of store)<br />\nPrizes will be presented to the winners of each age group<br />\n<br />\nSkill Test Includes:&nbsp\; Balancing at slow speeds\, Circle Riding\, Steering\, Maneuvering\, Bean Bag Throw<br />\n<br />\nAll registered participants will automatically be entered in a drawing for 2 bicycles (donated by Walmart)<br />\n<br />\nBike Inspections Available: Tires\, Brakes &amp\; adjustments\, Grease chain\, Helmets<br />\nBeatrice Police Department will be available with Bicycle Safety Information.<br />\n<br />\nSponsored by Beatrice Optimist Club<br />\n<br />\n
LOCATION:
UID:e.41.4820
SEQUENCE:3
DTSTAMP:20260424T182231Z
URL:https://business.beatricechamber.com/events/details/bicycle-rodeo-05-14-2011-4820
END:VEVENT

END:VCALENDAR
