BEGIN:VCALENDAR
VERSION:2.0
PRODID:-//ChamberMaster//Event Calendar 2.0//EN
METHOD:PUBLISH
X-PUBLISHED-TTL:P3D
REFRESH-INTERVAL:P3D
CALSCALE:GREGORIAN
BEGIN:VEVENT
DTSTART;VALUE=DATE:20100612
DTEND;VALUE=DATE:20100613
TRANSP:TRANSPARENT
X-MICROSOFT-CDO-ALLDAYEVENT:TRUE
SUMMARY:Big Blue River Clean-Up 6/12/2010
DESCRIPTION:Big Blue River Clean-UpSaturday\, June 128 a.m. - 1 p.m. Meet at the west bank of the Big Blue River next to the banner.  Don't forget your sunscreen\, bug spray\, drinking water\, and gloves!  Click here for volunteer registration form.
X-ALT-DESC;FMTTYPE=text/html:<div><p style="text-align: center"><span style="font-family: comic sans ms\, sans-serif"><strong><span style="font-size: large"><span style="text-decoration: underline"><font size="4" face="">Big Blue River Clean-Up</font></span></span></strong></span></p><p style="text-align: center"><span style="font-family: comic sans ms\, sans-serif"><strong><span style="font-size: large"><font size="4" face="">Saturday\, June 12</font></span></strong></span></p><p style="text-align: center"><span style="font-family: comic sans ms\, sans-serif"><strong><span style="font-size: large"><font size="4" face="">8 a.m. - 1 p.m.</font></span></strong></span></p><p><span style="font-size: medium">&nbsp\;Meet at the west bank of the Big Blue River next to the banner.&nbsp\; <span style="font-family: arial\, helvetica\, sans-serif"><font face="">Don't forget your sunscreen\, bug spray\, drinking water\, and gloves! </font></span></span></p><p>&nbsp\;<a target="_blank" href="https://secure.chambermaster.com/FCKeditor/UserFiles/chambers/41/File/GCEMA%20Disaster%20Volunteer%20Registration%20Form.pdf"><span style="font-size: medium">Click here for volunteer registration form.</span></a></p></div>
LOCATION:
UID:e.41.2025
SEQUENCE:3
DTSTAMP:20260425T105555Z
URL:https://business.beatricechamber.com/events/details/big-blue-river-clean-up-6-12-2010-06-12-2010-2025
END:VEVENT

END:VCALENDAR
