BEGIN:VCALENDAR
VERSION:2.0
PRODID:-//ChamberMaster//Event Calendar 2.0//EN
METHOD:PUBLISH
X-PUBLISHED-TTL:P3D
REFRESH-INTERVAL:P3D
CALSCALE:GREGORIAN
BEGIN:VEVENT
DTSTART;VALUE=DATE:20110806
DTEND;VALUE=DATE:20110808
TRANSP:TRANSPARENT
X-MICROSOFT-CDO-ALLDAYEVENT:TRUE
SUMMARY:Big Indian Archer 3D Shoot
DESCRIPTION:Big Indian Archers\n\n2011 Schedule\n\n\n\nSouthwest of Wymore\, NE (on the west side of Big Indian Lake on Hwy 8)\n\n\n\nCost is $10 for Non-Competitive\; $12 for Competitive\, Members Save $2\n\nShoot all weekend 2nd - 3rd - 4th time for Half Price!\n\n\n\nApril 2-3:    3D Shoot\n\nMay 7-8:    3D Shoot\n\nJune 4-5:    3D Shoot \n\nJuly 2-3:    3D Shoot\n\nAug 6-7:    3D Shoot\n\nSep 3-4    Labor Day Weekend Jamboree\, BBQ & Raffles\n\n\n\nShooting times:\n\nSaturday's 8 am - 8 pm\n\nSunday's 8 am - 12 pm\n\n\n\nScorecards Deadline: 4 pm Sunday\; Attend 4 Shoots for Shooter of the Year Awards\, 40s Target\n\n\n\nLunch available at all shoots\; Primitive Camping available\n\n\n\nClasses: MBO\, FBO\, MBR\, MBF\, FBR\, FBF\, AHC\, AFHC\, HC\, HCF\, FHC\, FHF\, MTRD\, FTRD\, Primitive\, YM\, YF\, CUB\, Future\n\n\n\nwww.bigindianarchers.com\n\n\n\nContacts:\n\nLarry Lottman (402)239-9011\n\nJohn Pavlik (402)520-0322\n\nMike Grabouski (402)239-7286\n\nJohn Weiss (402)806-0630\n\nGalen Hormann (785)562-5418\n\n\n\nNotice: Although the archery range is a public facility\, it is immediately adjacent to private property.  Please respect the landowners righs by not discharging arrows in such a fashion that they will exit the range area\, and under no circumstance should users of the range facility enter on to the adjacent private property.
X-ALT-DESC;FMTTYPE=text/html:<strong>Big Indian Archers<br />\n2011 Schedule</strong><br />\n<br />\nSouthwest of Wymore\, NE (on the west side of Big Indian Lake on Hwy 8)<br />\n<br />\nCost is $10 for Non-Competitive\; $12 for Competitive\, Members Save $2<br />\nShoot all weekend 2nd - 3rd - 4th time for Half Price!<br />\n<br />\nApril 2-3:&nbsp\;&nbsp\;&nbsp\;&nbsp\;3D Shoot<br />\nMay 7-8:&nbsp\;&nbsp\;&nbsp\;&nbsp\;3D Shoot<br />\nJune 4-5:&nbsp\;&nbsp\;&nbsp\;&nbsp\;3D Shoot&nbsp\;<br />\nJuly 2-3:&nbsp\;&nbsp\;&nbsp\;&nbsp\;3D Shoot<br />\nAug 6-7:&nbsp\;&nbsp\;&nbsp\;&nbsp\;3D Shoot<br />\nSep 3-4&nbsp\;&nbsp\;&nbsp\;&nbsp\;Labor Day Weekend Jamboree\, BBQ &amp\; Raffles<br />\n<br />\nShooting times:<br />\nSaturday&#39\;s&nbsp\;8 am - 8 pm<br />\nSunday&#39\;s 8 am - 12 pm<br />\n<br />\nScorecards Deadline: 4 pm Sunday\; Attend 4 Shoots for Shooter of the Year Awards\, 40s Target<br />\n<br />\nLunch available at all shoots\; Primitive Camping available<br />\n<br />\nClasses: MBO\, FBO\, MBR\, MBF\, FBR\, FBF\, AHC\, AFHC\, HC\, HCF\, FHC\, FHF\, MTRD\, FTRD\, Primitive\, YM\, YF\, CUB\, Future<br />\n<br />\nwww.bigindianarchers.com<br />\n<br />\nContacts:<br />\nLarry Lottman (402)239-9011<br />\nJohn Pavlik (402)520-0322<br />\nMike Grabouski (402)239-7286<br />\nJohn Weiss (402)806-0630<br />\nGalen Hormann (785)562-5418<br />\n<br />\n<em>Notice: Although the archery range is a public facility\, it is immediately adjacent to private property.&nbsp\; Please respect the landowners righs by not discharging arrows in such a fashion that they will exit the range area\, and under no circumstance should users of the range facility enter on to the adjacent private property.</em>
LOCATION:
UID:e.41.4943
SEQUENCE:3
DTSTAMP:20260424T134520Z
URL:https://business.beatricechamber.com/events/details/big-indian-archer-3d-shoot-08-06-2011-4943
END:VEVENT

END:VCALENDAR
