BEGIN:VCALENDAR
VERSION:2.0
PRODID:-//ChamberMaster//Event Calendar 2.0//EN
METHOD:PUBLISH
X-PUBLISHED-TTL:P3D
REFRESH-INTERVAL:P3D
CALSCALE:GREGORIAN
BEGIN:VEVENT
DTSTART;VALUE=DATE:20100605
DTEND;VALUE=DATE:20100607
TRANSP:TRANSPARENT
X-MICROSOFT-CDO-ALLDAYEVENT:TRUE
SUMMARY:Big Indian Archers 3-D Shoot
DESCRIPTION:Big Indian Archers 2010 Schedule   Southwest of Wymore\, NE on the west side of Big Indian Lake on HWY 8.  Cost is $10 for non-competitive $12 for Competitive\, Members Save $2. Shoot all weekend 2nd\, 3rd\, 4th time for Half Price!  April 10-11-3D Shoot\, May 1-2-3D Shoot\, June 5-6-3D Shoot\, July 3-4-3D Shoot\, August 7-8-3D Shoot. Labor Day Weekend Jamboree\, BBQ and Raffles September 4th and 5th.  Shooting Times: Saturdays 8:00 a.m.-8 p.m.\, Sundays 8:00 a.m.-12 p.m. Scorecards Deadline 4:00 Sunday attend 4 shoots for Shooter of the Year Awards.  Primitive Camping available. Contacts: Larry Lotman - 402-239-9011\, John Pavlik - 402-520-0322\, Mike Grabouski - 402-239-7286\, John Weiss - 402-806-0630\, Galen Hormann - 785-562-5418
X-ALT-DESC;FMTTYPE=text/html:<div>&nbsp\;<div><div><font style="font-size: 14pt"><strong><font style="font-size: 18pt">Big Indian Archers&nbsp\;2010 Schedule&nbsp\;</font></strong> <div><font style="font-size: 10pt"><strong>&nbsp\;</strong>Southwest of Wymore\, NE on the west side of Big Indian Lake on HWY 8. </font></div><div>&nbsp\;</div><div><font style="font-size: 10pt">Cost is $10 for non-competitive $12 for Competitive\, Members Save $2. Shoot all weekend 2nd\, 3rd\, 4th time for Half Price! </font></div><div>&nbsp\;</div><div><font style="font-size: 10pt"><strong>April 10-11</strong>-3D Shoot\, <strong>May 1-2</strong>-3D Shoot\, <strong>June 5-6</strong>-3D Shoot\, <strong>July 3-4</strong>-3D Shoot\, <strong>August 7-8</strong>-3D Shoot. </font></div></font><font style="font-size: 10pt"><font color="#000000">Labor Day Weekend Jamboree\, BBQ and Raffles <strong>September 4th and 5th</strong>. </font></font></div></div><div>&nbsp\;</div><div><font style="font-size: 10pt"><font color="#000000">Shooting Times: Saturdays 8:00 a.m.-8 p.m.\, Sundays 8:00 a.m.-12 p.m. Scorecards Deadline 4:00 Sunday attend 4 shoots for Shooter of the Year Awards.&nbsp\; Primitive Camping available.</font></font></div><div><font style="font-size: 10pt"><font color="#000000">&nbsp\;</font></font></div><div><font style="font-size: 10pt"><font color="#000000">Contacts: Larry Lotman - 402-239-9011\, John Pavlik - 402-520-0322\, Mike Grabouski - 402-239-7286\, John Weiss - 402-806-0630\, Galen Hormann - 785-562-5418</font></font></div></div>
LOCATION:
UID:e.41.2003
SEQUENCE:3
DTSTAMP:20260425T105412Z
URL:https://business.beatricechamber.com/events/details/big-indian-archers-3-d-shoot-06-05-2010-2003
END:VEVENT

END:VCALENDAR
