BEGIN:VCALENDAR
VERSION:2.0
PRODID:-//ChamberMaster//Event Calendar 2.0//EN
METHOD:PUBLISH
X-PUBLISHED-TTL:P3D
REFRESH-INTERVAL:P3D
CALSCALE:GREGORIAN
BEGIN:VEVENT
DTSTART;VALUE=DATE:20090905
DTEND;VALUE=DATE:20090907
TRANSP:TRANSPARENT
X-MICROSOFT-CDO-ALLDAYEVENT:TRUE
SUMMARY:Big Indian Archers Annual Jamboree & 3D Archery shoot
DESCRIPTION:The Big Indian Archers will host their annual Jamboree and 3D archery shoot Saturday and Sunday on the west side of Big Indian Lake southwest of Wymore.Registration will be from 8 a.m.-8 p.m. Saturday and from 8 a.m.-noon Sunday.\n\nBesides the 3D shoot\, there will be archery games for all ages during the weekend.\n\nA barbecue potluck and awards ceremony will be held Sunday at 4 p.m.\n\nRecreational shooters\, as well as competitive shooters\, are welcome at the event.\n\nFor more information\, contact Larry Lottman at 203-239-9011 or Mike Grabouski at 402-239-7386.\n\nInformation is also available at bigindianarchers.com.
X-ALT-DESC;FMTTYPE=text/html:<div>The Big Indian Archers will host their annual Jamboree and 3D archery shoot Saturday and Sunday on the west side of Big Indian Lake southwest of Wymore.<div class="storyAd-300x250"><!-- AdSys ad not found for sports/local:in_story --></div><p>Registration will be from 8 a.m.-8 p.m. Saturday and from 8 a.m.-noon Sunday.<br /><br />Besides the 3D shoot\, there will be archery games for all ages during the weekend.<br /><br />A barbecue potluck and awards ceremony will be held Sunday at 4 p.m.<br /><br />Recreational shooters\, as well as competitive shooters\, are welcome at the event.<br /><br />For more information\, contact Larry Lottman at 203-239-9011 or Mike Grabouski at 402-239-7386.<br /><br />Information is also available at <a href="http://bigindianarchers.com/">bigindianarchers.com</a>.</p></div>
LOCATION:
UID:e.41.1430
SEQUENCE:3
DTSTAMP:20260425T234058Z
URL:https://business.beatricechamber.com/events/details/big-indian-archers-annual-jamboree-3d-archery-shoot-09-05-2009-1430
END:VEVENT

END:VCALENDAR
