BEGIN:VCALENDAR
VERSION:2.0
PRODID:-//ChamberMaster//Event Calendar 2.0//EN
METHOD:PUBLISH
X-PUBLISHED-TTL:P3D
REFRESH-INTERVAL:P3D
CALSCALE:GREGORIAN
BEGIN:VEVENT
DTSTART;VALUE=DATE:20090814
DTEND;VALUE=DATE:20090817
TRANSP:TRANSPARENT
X-MICROSOFT-CDO-ALLDAYEVENT:TRUE
SUMMARY:Big Indian Archers Family-4H-Scouts-Youth Weekend
DESCRIPTION:Special Weekend Event!!The Big Indian ArchersFamily-4H-Scouts-Youth Weekend CampingArchery Safety TrainingArchery FundamentalsGames Hunting SafetyTree Stand SafetySpecial 3D Trails  Saturday Night campfire with Game & Parks Personnel For information contact:Mike Grabouski: 402-239-7286Galen Hormann:  785-562-5418Larry Lottman:  402-239-9011 www.bigindianarchers.com
X-ALT-DESC;FMTTYPE=text/html:<div><span style="font-size: small"><span style="color: #336633"><span style=""><strong>Special Weekend Event!!</strong></span></span></span></div><div><strong><span style="color: #336633">The Big Indian Archers</span></strong></div><div><strong><span style="color: #336633">Family-4H-Scouts-Youth Weekend</span></strong></div><div>&nbsp\;</div><div><strong><span style="color: #336633">Camping</span></strong></div><div><strong><span style="color: #336633">Archery Safety Training</span></strong></div><div><strong><span style="color: #336633">Archery Fundamentals</span></strong></div><div><strong><span style="color: #336633">Games </span></strong></div><div><strong><span style="color: #336633">Hunting Safety</span></strong></div><div><strong><span style="color: #336633">Tree Stand Safety</span></strong></div><div><strong><span style="color: #336633">Special 3D Trails </span></strong></div><div>&nbsp\;</div><div><span style="font-size: small"><strong><span style="color: #336633">Saturday Night campfire with Game &amp\; Parks Personnel</span></strong></span></div><div>&nbsp\;</div><div><strong><span style="color: #336633">For information contact:</span></strong></div><div><strong><span style="color: #336633">Mike Grabouski: 402-239-7286</span></strong></div><div><strong><span style="color: #336633">Galen Hormann:&nbsp\; 78<span style="color: #336633">5-562-5418</span></span></strong></div><div><strong><span style="color: #336633"><span style="color: #336633">Larry Lottman:&nbsp\; 402-239-9011</span></span></strong></div><div>&nbsp\;</div><div><span style="color: #336633"><span style="color: #336633"><a href="http://www.bigindianarchers.com"><strong>www.bigindianarchers.com</strong></a></span></span></div><div>&nbsp\;</div><div>&nbsp\;</div>
LOCATION:
UID:e.41.1300
SEQUENCE:3
DTSTAMP:20260426T012312Z
URL:https://business.beatricechamber.com/events/details/big-indian-archers-family-4h-scouts-youth-weekend-08-14-2009-1300
END:VEVENT

END:VCALENDAR
