BEGIN:VCALENDAR
VERSION:2.0
PRODID:-//ChamberMaster//Event Calendar 2.0//EN
METHOD:PUBLISH
X-PUBLISHED-TTL:P3D
REFRESH-INTERVAL:P3D
CALSCALE:GREGORIAN
BEGIN:VEVENT
DTSTART:20101208T190000Z
DTEND:20101208T210000Z
X-MICROSOFT-CDO-ALLDAYEVENT:FALSE
SUMMARY:Bingo
DESCRIPTION:Bingo:\n\n\n\nBingo at the Tiger's Den in Odell\n\n\n\nWed.\, Dec. 8\, 1-3 p.m.
X-ALT-DESC;FMTTYPE=text/html:<strong><span style="font-size: 14px\;">Bingo:</span></strong><br />\n<br />\nBingo at the Tiger&#39\;s Den in Odell<br />\n<br />\nWed.\, Dec. 8\, 1-3 p.m.<br />\n
LOCATION:
UID:e.41.2880
SEQUENCE:3
DTSTAMP:20260425T015841Z
URL:https://business.beatricechamber.com/events/details/bingo-12-08-2010-2880
END:VEVENT

END:VCALENDAR
