BEGIN:VCALENDAR
VERSION:2.0
PRODID:-//ChamberMaster//Event Calendar 2.0//EN
METHOD:PUBLISH
X-PUBLISHED-TTL:P3D
REFRESH-INTERVAL:P3D
CALSCALE:GREGORIAN
BEGIN:VEVENT
DTSTART:20101231T013000Z
DTEND:20101231T013000Z
X-MICROSOFT-CDO-ALLDAYEVENT:FALSE
SUMMARY:BINGO at Wymore American Legion
DESCRIPTION:Wymore American Legion BINGO\n\n\n\nThursday\, December 30- 7:30 p.m.\n\n\n\nChance to win jackpot of $250 plus!\n\nNew $100 Early Bird.
X-ALT-DESC;FMTTYPE=text/html:Wymore American Legion BINGO<br />\n<br />\nThursday\, December 30- 7:30 p.m.<br />\n<br />\nChance to win jackpot of $250 plus!<br />\nNew $100 Early Bird.
LOCATION:
UID:e.41.2866
SEQUENCE:3
DTSTAMP:20260425T014629Z
URL:https://business.beatricechamber.com/events/details/bingo-at-wymore-american-legion-12-30-2010-2866
END:VEVENT

END:VCALENDAR
