BEGIN:VCALENDAR
VERSION:2.0
PRODID:-//ChamberMaster//Event Calendar 2.0//EN
METHOD:PUBLISH
X-PUBLISHED-TTL:P3D
REFRESH-INTERVAL:P3D
CALSCALE:GREGORIAN
BEGIN:VEVENT
DTSTART;VALUE=DATE:20101221
DTEND;VALUE=DATE:20101222
TRANSP:TRANSPARENT
X-MICROSOFT-CDO-ALLDAYEVENT:TRUE
SUMMARY:Bingo - Wymore American Legion
DESCRIPTION:Wymore American Legion \n\n	 \n\n	BINGO\n\n	 \n\n	Thursday\, Dec. 23\n\n	7:30 p.m.\n\n	 \n\n	Chance to win jackpot of $250 plus!\n\n	\n\n	New $100 Early Bird.
X-ALT-DESC;FMTTYPE=text/html:<div>\n	<span style="font-size: medium\;"><span style="font-family: Comic Sans MS\;">Wymore American Legion </span></span></div>\n<div>\n	&nbsp\;</div>\n<div>\n	<span style="font-size: medium\;"><span style="font-family: Comic Sans MS\;">BINGO</span></span></div>\n<div>\n	&nbsp\;</div>\n<div>\n	<span style="font-size: medium\;"><span style="font-family: Comic Sans MS\;">Thursday\, Dec. 23</span></span></div>\n<div>\n	<span style="font-size: medium\;"><span style="font-family: Comic Sans MS\;">7:30 p.m.</span></span></div>\n<div>\n	&nbsp\;</div>\n<div>\n	<span style="font-size: medium\;"><span style="font-family: Comic Sans MS\;">Chance to win jackpot of $250 plus!<br />\n	<br />\n	New $100 Early Bird.</span></span></div>\n
LOCATION:
UID:e.41.2864
SEQUENCE:3
DTSTAMP:20260425T014532Z
URL:https://business.beatricechamber.com/events/details/bingo-wymore-american-legion-12-21-2010-2864
END:VEVENT

END:VCALENDAR
