BEGIN:VCALENDAR
VERSION:2.0
PRODID:-//ChamberMaster//Event Calendar 2.0//EN
METHOD:PUBLISH
X-PUBLISHED-TTL:P3D
REFRESH-INTERVAL:P3D
CALSCALE:GREGORIAN
BEGIN:VEVENT
DTSTART:20120609T130000Z
DTEND:20120609T140000Z
X-MICROSOFT-CDO-ALLDAYEVENT:FALSE
SUMMARY:Birds and Bagels: Early Birding at Homestead
DESCRIPTION:Join Natural Resource Manager Jesse Bolli for early morning birding at Homestead National Monument.
X-ALT-DESC;FMTTYPE=text/html:Join Natural Resource Manager Jesse Bolli for early morning birding at Homestead National Monument. 
LOCATION:Homestead National Monument of America's Education Center
UID:e.41.5355
SEQUENCE:3
DTSTAMP:20260422T131700Z
URL:https://business.beatricechamber.com/events/details/birds-and-bagels-early-birding-at-homestead-06-09-2012-5355
END:VEVENT

END:VCALENDAR
