BEGIN:VCALENDAR
VERSION:2.0
PRODID:-//ChamberMaster//Event Calendar 2.0//EN
METHOD:PUBLISH
X-PUBLISHED-TTL:P3D
REFRESH-INTERVAL:P3D
CALSCALE:GREGORIAN
BEGIN:VEVENT
DTSTART;VALUE=DATE:20101231
DTEND;VALUE=DATE:20110101
TRANSP:TRANSPARENT
X-MICROSOFT-CDO-ALLDAYEVENT:TRUE
SUMMARY:Black & White Party @ The End Zone
DESCRIPTION:Black & White Party\n\nCelebrate New Year's Eve - at the End Zone Sports Bar\n\n3500 N 6th Street\, Beatrice\n\n\n\nFriday\, December 31\n\n7 p.m. - close\n\n\n\nfeaturing Back Spin Entertainment\n\nFree party favors!
X-ALT-DESC;FMTTYPE=text/html:Black &amp\; White Party<br />\nCelebrate New Year&#39\;s Eve - at the End Zone Sports Bar<br />\n3500 N 6th Street\, Beatrice<br />\n<br />\nFriday\, December 31<br />\n7 p.m. - close<br />\n<br />\nfeaturing Back Spin Entertainment<br />\nFree party favors!
LOCATION:
UID:e.41.3158
SEQUENCE:3
DTSTAMP:20260425T014206Z
URL:https://business.beatricechamber.com/events/details/black-white-party-the-end-zone-12-31-2010-3158
END:VEVENT

END:VCALENDAR
