BEGIN:VCALENDAR
VERSION:2.0
PRODID:-//ChamberMaster//Event Calendar 2.0//EN
METHOD:PUBLISH
X-PUBLISHED-TTL:P3D
REFRESH-INTERVAL:P3D
CALSCALE:GREGORIAN
BEGIN:VEVENT
DTSTART;VALUE=DATE:20111128
DTEND;VALUE=DATE:20111129
TRANSP:TRANSPARENT
X-MICROSOFT-CDO-ALLDAYEVENT:TRUE
SUMMARY:Blood Drive
DESCRIPTION:Boy Scout Troop 85/Venture Crew 85 Blood Drive\n\n	\n\n	at St. John Lutheran Church\, 701 N 6th\, Beatrice\n\n	\n\n	Monday\, November 28\n\n	3 - 6:30 pm\n\n	\n\n	Contact Tonya Minor at 402-230-0505 to schedule an appointment.  Walk-ins are welcome.  Visit www.ncbb.org or more information.
X-ALT-DESC;FMTTYPE=text/html:<p>\n	Boy Scout Troop 85/Venture Crew 85 Blood Drive<br />\n	<br />\n	at St. John Lutheran Church\, 701 N 6th\, Beatrice<br />\n	<br />\n	Monday\, November 28<br />\n	3 - 6:30 pm<br />\n	<br />\n	Contact Tonya Minor at 402-230-0505 to schedule an appointment.&nbsp\; Walk-ins are welcome.&nbsp\; Visit <a href="http://www.ncbb.org">www.ncbb.org</a> or more information.</p>\n
LOCATION:
UID:e.41.5217
SEQUENCE:3
DTSTAMP:20260424T105404Z
URL:https://business.beatricechamber.com/events/details/blood-drive-11-28-2011-5217
END:VEVENT

END:VCALENDAR
