BEGIN:VCALENDAR
VERSION:2.0
PRODID:-//ChamberMaster//Event Calendar 2.0//EN
METHOD:PUBLISH
X-PUBLISHED-TTL:P3D
REFRESH-INTERVAL:P3D
CALSCALE:GREGORIAN
BEGIN:VEVENT
DTSTART:20091202T180000Z
DTEND:20091203T000000Z
X-MICROSOFT-CDO-ALLDAYEVENT:FALSE
SUMMARY:Blood Drive
DESCRIPTION:Beatrice Community December Blood DriveWednesday\, December 2\, 2009Noon - 6:00 pmHoliday Inn Express Convention Center To make an appointment call 228-0260
X-ALT-DESC;FMTTYPE=text/html:<div>Beatrice Community December Blood Drive</div><div>Wednesday\, December 2\, 2009</div><div>Noon - 6:00 pm</div><div>Holiday Inn Express Convention Center</div><div>&nbsp\;</div><div>To make an appointment call 228-0260</div>
LOCATION:
UID:e.41.1538
SEQUENCE:3
DTSTAMP:20260425T193827Z
URL:https://business.beatricechamber.com/events/details/blood-drive-12-02-2009-1538
END:VEVENT

END:VCALENDAR
