BEGIN:VCALENDAR
VERSION:2.0
PRODID:-//ChamberMaster//Event Calendar 2.0//EN
METHOD:PUBLISH
X-PUBLISHED-TTL:P3D
REFRESH-INTERVAL:P3D
CALSCALE:GREGORIAN
BEGIN:VEVENT
DTSTART;VALUE=DATE:20120222
DTEND;VALUE=DATE:20120224
TRANSP:TRANSPARENT
X-MICROSOFT-CDO-ALLDAYEVENT:TRUE
SUMMARY:Blood Drive - American Red Cross
DESCRIPTION:American Red Cross Blood Drive\n\n\n\nWednesday\, February 22: Noon - 6 pm\n\nThursday\, February 23: 7 am - 1 pm\n\n\n\nHoliday Inn Express\, 4005 N 6th\, Beatrice\, NE\n\n\n\nCall 800-RED CROSS (800-733-2767) or visit www.redcrossblood.org to make an appointment or for more information.
X-ALT-DESC;FMTTYPE=text/html:American Red Cross Blood Drive<br />\n<br />\nWednesday\, February 22: Noon - 6 pm<br />\nThursday\, February 23: 7 am - 1 pm<br />\n<br />\nHoliday Inn Express\, 4005 N 6th\, Beatrice\, NE<br />\n<br />\nCall 800-RED CROSS (800-733-2767) or visit <a href="http://www.redcrossblood.org">www.redcrossblood.org</a> to make an appointment or for more information.
LOCATION:
UID:e.41.5322
SEQUENCE:3
DTSTAMP:20260422T185525Z
URL:https://business.beatricechamber.com/events/details/blood-drive-american-red-cross-02-22-2012-5322
END:VEVENT

END:VCALENDAR
