BEGIN:VCALENDAR
VERSION:2.0
PRODID:-//ChamberMaster//Event Calendar 2.0//EN
METHOD:PUBLISH
X-PUBLISHED-TTL:P3D
REFRESH-INTERVAL:P3D
CALSCALE:GREGORIAN
BEGIN:VEVENT
DTSTART;VALUE=DATE:20111103
DTEND;VALUE=DATE:20111106
TRANSP:TRANSPARENT
X-MICROSOFT-CDO-ALLDAYEVENT:TRUE
SUMMARY:Blossom Khardt Holiday Open House
DESCRIPTION:Blossom Khardt's Holiday Open House\n\n\n\nThursday\, Friday & Saturday\, November 3\, 4 & 5\n\n\n\nShopping Spree give away!\n\n\n\n2315 Court Street\, Beatrice\, NE \n\n402-228-2278
X-ALT-DESC;FMTTYPE=text/html:Blossom Khardt&#39\;s Holiday Open House<br />\n<br />\nThursday\, Friday &amp\; Saturday\, November 3\, 4 &amp\; 5<br />\n<br />\nShopping Spree give away!<br />\n<br />\n2315 Court Street\, Beatrice\, NE&nbsp\;<br />\n402-228-2278
LOCATION:
UID:e.41.5227
SEQUENCE:3
DTSTAMP:20260424T105643Z
URL:https://business.beatricechamber.com/events/details/blossom-khardt-holiday-open-house-11-03-2011-5227
END:VEVENT

END:VCALENDAR
