BEGIN:VCALENDAR
VERSION:2.0
PRODID:-//ChamberMaster//Event Calendar 2.0//EN
METHOD:PUBLISH
X-PUBLISHED-TTL:P3D
REFRESH-INTERVAL:P3D
CALSCALE:GREGORIAN
BEGIN:VEVENT
DTSTART;VALUE=DATE:20101105
DTEND;VALUE=DATE:20101107
TRANSP:TRANSPARENT
X-MICROSOFT-CDO-ALLDAYEVENT:TRUE
SUMMARY:Blossom Khardt Holiday Open House
DESCRIPTION:Blossom Khardt\n\nHoliday Open House\n\n\n\nFriday\, November 5th\, 9 - 8\n\nSaturday\, November 6th\, 9-4\n\n\n\nYou'll want to do your holiday shopping at the Khardt!  Fabulous\, fun holiday themes!  New product lines!  Gifts & decor for all tastes and styles!\n\n\n\nEnter to win our Shopping Spree!\n\n\n\n2315 Court Street\, Suite C\n\nBeatrice\, NE\n\n\n\n402-228-CART (2278)\n\nwww.blossomkhardt.com
X-ALT-DESC;FMTTYPE=text/html:Blossom Khardt<br />\nHoliday Open House<br />\n<br />\nFriday\, November 5th\, 9 - 8<br />\nSaturday\, November 6th\, 9-4<br />\n<br />\nYou&#39\;ll want to do your holiday shopping at the Khardt!&nbsp\; Fabulous\, fun holiday themes!&nbsp\; New product lines!&nbsp\; Gifts &amp\; decor for all tastes and styles!<br />\n<br />\nEnter to win our Shopping Spree!<br />\n<br />\n2315 Court Street\, Suite C<br />\nBeatrice\, NE<br />\n<br />\n402-228-CART (2278)<br />\n<a href="http://www.blossomkhardt.com">www.blossomkhardt.com</a>
LOCATION:
UID:e.41.2771
SEQUENCE:3
DTSTAMP:20260425T032749Z
URL:https://business.beatricechamber.com/events/details/blossom-khardt-holiday-open-house-11-05-2010-2771
END:VEVENT

END:VCALENDAR
