BEGIN:VCALENDAR
VERSION:2.0
PRODID:-//ChamberMaster//Event Calendar 2.0//EN
METHOD:PUBLISH
X-PUBLISHED-TTL:P3D
REFRESH-INTERVAL:P3D
CALSCALE:GREGORIAN
BEGIN:VEVENT
DTSTART:20090613T160000Z
DTEND:20090613T170000Z
X-MICROSOFT-CDO-ALLDAYEVENT:FALSE
SUMMARY:Blue River Jam
DESCRIPTION:Blue River Jam @ Riverside Park. Music festival. Musicians of all types of music are welcome to perform and showcase their talents on stage\, with or without other musicians. Equipment will be pre-set and ready for anyone seeking the spotlight. This is an excellent opportunity for individual musicians and singers to find others to jam with or even form a band.  This year we will host many local talents performing their  shows. Bands will be allowed One Hour to tune\, perform & teardown. Questions or for more information\, Call John Shipman at 402-610-0496 or Jason Stillwell at 785-713-2497  Visit www.myspace.com/blueriverjam or email to blueriverjam@yahoo.com
X-ALT-DESC;FMTTYPE=text/html:<div style="margin: 0in 45pt 0pt 0in"><strong><span style="font-size: 9pt">Blue River Jam</span></strong><span style="font-size: 9pt"> @ Riverside Park.&nbsp\;</span></div><div style="margin: 0in 45pt 0pt 0in"><span style="font-size: 9pt">Music festival.&nbsp\;Musicians of all types of music are welcome to perform and showcase their talents&nbsp\;on stage\, with or without other musicians.&nbsp\;Equipment will be pre-set and ready for anyone seeking&nbsp\;the spotlight.&nbsp\;This is an excellent opportunity for individual musicians and singers to find others&nbsp\;to jam with or even form a band.&nbsp\;</span></div><div style="margin: 0in 45pt 0pt 0in">&nbsp\;</div><div style="margin: 0in 45pt 0pt 0in"><span style="font-size: 9pt">This year we will host many local talents performing their&nbsp\; shows.&nbsp\;Bands will be allowed One Hour to tune\, perform &amp\; teardown.&nbsp\;Questions or for more&nbsp\;information\, Call John Shipman at 402-610-0496 or Jason Stillwell at 785-713-2497 </span></div><div style="margin: 0in 45pt 0pt 0in"><span style="font-size: 9pt">&nbsp\;Visit www.myspace.com/blueriverjam or email to blueriverjam@yahoo.com </span></div>
LOCATION:
UID:e.41.1189
SEQUENCE:3
DTSTAMP:20260426T042559Z
URL:https://business.beatricechamber.com/events/details/blue-river-jam-06-13-2009-1189
END:VEVENT

END:VCALENDAR
