BEGIN:VCALENDAR
VERSION:2.0
PRODID:-//ChamberMaster//Event Calendar 2.0//EN
METHOD:PUBLISH
X-PUBLISHED-TTL:P3D
REFRESH-INTERVAL:P3D
CALSCALE:GREGORIAN
BEGIN:VEVENT
DTSTART:20101212T003000Z
DTEND:20101212T003000Z
X-MICROSOFT-CDO-ALLDAYEVENT:FALSE
SUMMARY:Blue Springs Fire Belles Christmas Party:
DESCRIPTION:Blue Springs Fire Belles Christmas Party:\n\n\n\n6:30 p.m. Saturday at the Fireman's Memorial Hall.\n\nFire Belles will provide chili\, chicken noodle soup\, and cinnamon rolls. Those attending are asked to bring snacks\, sandwhiches\, or dessert. Table Service\, Kool-aide and tea will be provided. There will be a $10 grab bag gift exchange for men and women. Santa will visit the children during the evening. ATTENDING WILL BE FAMILIES OF ALL FIREMEN\, HONORARY FIREMEN\, RURAL FIRE BOARD\, AND FIREBELLES.
X-ALT-DESC;FMTTYPE=text/html:<strong><span style="font-size: 16px\;">Blue Springs Fire Belles Christmas Party:</span></strong><br />\n<br />\n6:30 p.m. Saturday at the Fireman&#39\;s Memorial Hall.<br />\nFire Belles will provide chili\, chicken noodle soup\, and cinnamon rolls. Those attending are asked to bring snacks\, sandwhiches\, or dessert. Table Service\, Kool-aide and tea will be provided. There will be a $10 grab bag gift exchange for men and women. Santa will visit the children during the evening. ATTENDING WILL BE FAMILIES OF ALL FIREMEN\, HONORARY FIREMEN\, RURAL FIRE BOARD\, AND FIREBELLES.<br />\n
LOCATION:
UID:e.41.2897
SEQUENCE:3
DTSTAMP:20260425T014419Z
URL:https://business.beatricechamber.com/events/details/blue-springs-fire-belles-christmas-party-12-11-2010-2897
END:VEVENT

END:VCALENDAR
