BEGIN:VCALENDAR
VERSION:2.0
PRODID:-//ChamberMaster//Event Calendar 2.0//EN
METHOD:PUBLISH
X-PUBLISHED-TTL:P3D
REFRESH-INTERVAL:P3D
CALSCALE:GREGORIAN
BEGIN:VEVENT
DTSTART:20090811T233000Z
DTEND:20090812T010000Z
X-MICROSOFT-CDO-ALLDAYEVENT:FALSE
SUMMARY:BMS 6th Grade Orientation
DESCRIPTION:Orientation for incoming sixth grade students and those students new to Beatrice Middle School will be Tuesday and Thursday\,  August  11 & 13.  Doors Open at 6:30 pm Students with Last Names starting with A to L asked to attend Tuesday's sessionStudents with Last Names starting with M to Z asked to attend Thursday's session Students and Parents are asked to meet in the cafeteria at 7:00 pm for brief orientation program
X-ALT-DESC;FMTTYPE=text/html:<div>Orientation for incoming sixth grade students and those students new to Beatrice Middle School will be Tuesday and Thursday\,&nbsp\; August&nbsp\;&nbsp\;11 &amp\; 13.&nbsp\; Doors Open at 6:30 pm</div><div>&nbsp\;</div><div>Students with Last Names starting with A to L asked to attend Tuesday's session</div><div>Students with Last Names starting with&nbsp\;M&nbsp\;to Z&nbsp\;asked to attend Thursday's session</div><div>&nbsp\;</div><div>Students and Parents are asked to meet in the cafeteria at 7:00&nbsp\;pm for brief orientation program</div>
LOCATION:
UID:e.41.1378
SEQUENCE:3
DTSTAMP:20260426T011654Z
URL:https://business.beatricechamber.com/events/details/bms-6th-grade-orientation-08-11-2009-1378
END:VEVENT

END:VCALENDAR
