BEGIN:VCALENDAR
VERSION:2.0
PRODID:-//ChamberMaster//Event Calendar 2.0//EN
METHOD:PUBLISH
X-PUBLISHED-TTL:P3D
REFRESH-INTERVAL:P3D
CALSCALE:GREGORIAN
BEGIN:VEVENT
DTSTART:20101214T010000Z
DTEND:20101214T010000Z
X-MICROSOFT-CDO-ALLDAYEVENT:FALSE
SUMMARY:BMS holiday concert
DESCRIPTION:The Beatrice Middle School Music Department will pressent their annual Holiday Concert Monday beginning at Beatrice High School\, 600 Orange Blvd.\n\n\n\nThe following groups will give performances:\n\nDelegation\, sixth grade and seventh/eighth grade orchestra\, along with the MS Jazz Band\, and the sixth\, seventh and eighth grade bands.\n\n\n\nThere will be a frewill donation at the door and refreshments will be served in the high school commons area after the program.
X-ALT-DESC;FMTTYPE=text/html:<strong>The Beatrice Middle School Music Department will pressent their annual Holiday Concert Monday beginning at Beatrice High School\, 600 Orange Blvd.<br />\n<br />\nThe following groups will give performances:<br />\nDelegation\, sixth grade and seventh/eighth grade orchestra\, along with the MS Jazz Band\, and the sixth\, seventh and eighth grade bands.<br />\n<br />\nThere will be a frewill donation at the door and refreshments will be served in the high school commons area after the program.</strong><br />\n
LOCATION:
UID:e.41.2907
SEQUENCE:3
DTSTAMP:20260425T014259Z
URL:https://business.beatricechamber.com/events/details/bms-holiday-concert-12-13-2010-2907
END:VEVENT

END:VCALENDAR
