BEGIN:VCALENDAR
VERSION:2.0
PRODID:-//ChamberMaster//Event Calendar 2.0//EN
METHOD:PUBLISH
X-PUBLISHED-TTL:P3D
REFRESH-INTERVAL:P3D
CALSCALE:GREGORIAN
BEGIN:VEVENT
DTSTART;VALUE=DATE:20110211
DTEND;VALUE=DATE:20110212
TRANSP:TRANSPARENT
X-MICROSOFT-CDO-ALLDAYEVENT:TRUE
SUMMARY:BMS Valentine's Dance
DESCRIPTION:Beatrice Middle School's Valentine's Dance\n\n\n\nFriday\, February 11\n\n7 - 10 p.m.\n\nBeatrice City Auditorium\n\n\n\nAdmission is $5 per person.  The event is sponsored by the Beatrice Bullets 9's.
X-ALT-DESC;FMTTYPE=text/html:Beatrice Middle School&#39\;s Valentine&#39\;s Dance<br />\n<br />\nFriday\, February 11<br />\n7 - 10 p.m.<br />\nBeatrice City Auditorium<br />\n<br />\nAdmission is $5 per person.&nbsp\; The event is sponsored by the Beatrice Bullets 9&#39\;s.
LOCATION:
UID:e.41.4040
SEQUENCE:3
DTSTAMP:20260424T225448Z
URL:https://business.beatricechamber.com/events/details/bms-valentine-s-dance-02-11-2011-4040
END:VEVENT

END:VCALENDAR
