BEGIN:VCALENDAR
VERSION:2.0
PRODID:-//ChamberMaster//Event Calendar 2.0//EN
METHOD:PUBLISH
X-PUBLISHED-TTL:P3D
REFRESH-INTERVAL:P3D
CALSCALE:GREGORIAN
BEGIN:VEVENT
DTSTART:20090721T170000Z
DTEND:20090721T180000Z
X-MICROSOFT-CDO-ALLDAYEVENT:FALSE
SUMMARY:Board of Directors Meeting
DESCRIPTION:
X-ALT-DESC;FMTTYPE=text/html:
LOCATION:Chamber OfficeConference Room Noon
UID:e.41.1274
SEQUENCE:3
DTSTAMP:20260426T030219Z
URL:https://business.beatricechamber.com/events/details/board-of-directors-meeting-07-21-2009-1274
END:VEVENT

END:VCALENDAR
