BEGIN:VCALENDAR
VERSION:2.0
PRODID:-//ChamberMaster//Event Calendar 2.0//EN
METHOD:PUBLISH
X-PUBLISHED-TTL:P3D
REFRESH-INTERVAL:P3D
CALSCALE:GREGORIAN
BEGIN:VEVENT
DTSTART:20090915T170000Z
DTEND:20090915T180000Z
X-MICROSOFT-CDO-ALLDAYEVENT:FALSE
SUMMARY:Board of Directors Meeting
DESCRIPTION:
X-ALT-DESC;FMTTYPE=text/html:
LOCATION:Old Chamber Office - 226 S 6thConference Room Noon
UID:e.41.1401
SEQUENCE:3
DTSTAMP:20260425T234058Z
URL:https://business.beatricechamber.com/events/details/board-of-directors-meeting-09-15-2009-1401
END:VEVENT

END:VCALENDAR
