BEGIN:VCALENDAR
VERSION:2.0
PRODID:-//ChamberMaster//Event Calendar 2.0//EN
METHOD:PUBLISH
X-PUBLISHED-TTL:P3D
REFRESH-INTERVAL:P3D
CALSCALE:GREGORIAN
BEGIN:VEVENT
DTSTART:20091112T193000Z
DTEND:20091112T180000Z
X-MICROSOFT-CDO-ALLDAYEVENT:FALSE
SUMMARY:Board Retreat for Chamber of Commerce
DESCRIPTION:Chamber Office will be closed at 1:30 pmfor all staff and board members to attend theChamber Board Retreat.
X-ALT-DESC;FMTTYPE=text/html:<div><strong><span style="font-size: small">Chamber Office will be closed at 1:30 pm</span></strong></div><div><strong><span style="font-size: small">for&nbsp\;all staff and board members to attend the</span></strong></div><div><strong><span style="font-size: small">Chamber Board Retreat.&nbsp\; </span></strong></div><div>&nbsp\;</div><div>&nbsp\;</div>
LOCATION:
UID:e.41.1509
SEQUENCE:3
DTSTAMP:20260425T210534Z
URL:https://business.beatricechamber.com/events/details/board-retreat-for-chamber-of-commerce-11-12-2009-1509
END:VEVENT

END:VCALENDAR
