BEGIN:VCALENDAR
VERSION:2.0
PRODID:-//ChamberMaster//Event Calendar 2.0//EN
METHOD:PUBLISH
X-PUBLISHED-TTL:P3D
REFRESH-INTERVAL:P3D
CALSCALE:GREGORIAN
BEGIN:VEVENT
DTSTART;VALUE=DATE:20111113
DTEND;VALUE=DATE:20111114
TRANSP:TRANSPARENT
X-MICROSOFT-CDO-ALLDAYEVENT:TRUE
SUMMARY:Bobby Layne & his Orchestra
DESCRIPTION:Bobby Layne & his Orchestra\n\nAmerica's First Choice in Big Band Music\n\n\n\nFeaturing:  Bobby Layne\, The Bobby Layne Orchestra and Vocalsit Trudy DuMay\n\n\n\nSunday\, November 13\n\n2 pm\n\n\n\nHevelone Center for Performing Arts\n\n\n\nTickets:  $5 in advance at Security First Bank\; $10 at the Door\n\n\n\nBrought to you in part by the following sponsors:\n\nBAAC\, Wells Fargo Advisors\, hevelone Foundation
X-ALT-DESC;FMTTYPE=text/html:<span style="font-size: 16px">Bobby Layne &amp\; his Orchestra<br />\nAmerica&#39\;s First Choice in Big Band Music</span><br />\n<br />\nFeaturing:&nbsp\; Bobby Layne\, The Bobby Layne Orchestra and Vocalsit Trudy DuMay<br />\n<br />\nSunday\, November 13<br />\n2 pm<br />\n<br />\nHevelone Center for Performing Arts<br />\n<br />\nTickets:&nbsp\; $5 in advance at Security First Bank\; $10 at the Door<br />\n<br />\nBrought to you in part by the following sponsors:<br />\nBAAC\, Wells Fargo Advisors\, hevelone Foundation
LOCATION:
UID:e.41.5230
SEQUENCE:3
DTSTAMP:20260424T100013Z
URL:https://business.beatricechamber.com/events/details/bobby-layne-his-orchestra-11-13-2011-5230
END:VEVENT

END:VCALENDAR
