BEGIN:VCALENDAR
VERSION:2.0
PRODID:-//ChamberMaster//Event Calendar 2.0//EN
METHOD:PUBLISH
X-PUBLISHED-TTL:P3D
REFRESH-INTERVAL:P3D
CALSCALE:GREGORIAN
BEGIN:VEVENT
DTSTART;VALUE=DATE:20101106
DTEND;VALUE=DATE:20101107
TRANSP:TRANSPARENT
X-MICROSOFT-CDO-ALLDAYEVENT:TRUE
SUMMARY:Book and Bake Sale
DESCRIPTION:Book and Bake Sale:\n\n\n\n9 a.m.- noon\, Wymore Public Library.\n\n\n\nProceeds to help fund Friends of the Wymore Library projects.
X-ALT-DESC;FMTTYPE=text/html:<strong><span style="font-size: 14px">Book and Bake Sale:</span></strong><br />\n<br />\n9 a.m.- noon\, Wymore Public Library.<br />\n<br />\nProceeds to help fund Friends of the Wymore Library projects.
LOCATION:
UID:e.41.2787
SEQUENCE:3
DTSTAMP:20260425T032647Z
URL:https://business.beatricechamber.com/events/details/book-and-bake-sale-11-06-2010-2787
END:VEVENT

END:VCALENDAR
