BEGIN:VCALENDAR
VERSION:2.0
PRODID:-//ChamberMaster//Event Calendar 2.0//EN
METHOD:PUBLISH
X-PUBLISHED-TTL:P3D
REFRESH-INTERVAL:P3D
CALSCALE:GREGORIAN
BEGIN:VEVENT
DTSTART;VALUE=DATE:20110623
DTEND;VALUE=DATE:20110624
TRANSP:TRANSPARENT
X-MICROSOFT-CDO-ALLDAYEVENT:TRUE
SUMMARY:Book Discussion
DESCRIPTION:The Beatrice Public Library\, 16th and Court St.\, book discussion will be held Thursday\, June 23 at 7:30 p.m. \n\n	\n\n	"The Guernsey Literary and Potato Peel Pie Society\," a novel in letters by Mary Ann Shaffer and Annie Barrows\, is the featured book.  Discussion leader is Joan Burt.
X-ALT-DESC;FMTTYPE=text/html:<p>\n	The Beatrice Public Library\, 16th and Court St.\,&nbsp\;book discussion will be held Thursday\, June 23 at 7:30 p.m.&nbsp\;<br />\n	<br />\n	&quot\;The Guernsey Literary and Potato Peel Pie Society\,&quot\; a novel in letters by Mary Ann Shaffer and Annie Barrows\, is the featured book.&nbsp\; Discussion leader is Joan Burt.</p>\n
LOCATION:
UID:e.41.4927
SEQUENCE:3
DTSTAMP:20260424T165318Z
URL:https://business.beatricechamber.com/events/details/book-discussion-06-23-2011-4927
END:VEVENT

END:VCALENDAR
