BEGIN:VCALENDAR
VERSION:2.0
PRODID:-//ChamberMaster//Event Calendar 2.0//EN
METHOD:PUBLISH
X-PUBLISHED-TTL:P3D
REFRESH-INTERVAL:P3D
CALSCALE:GREGORIAN
BEGIN:VEVENT
DTSTART;VALUE=DATE:20100225
DTEND;VALUE=DATE:20100226
TRANSP:TRANSPARENT
X-MICROSOFT-CDO-ALLDAYEVENT:TRUE
SUMMARY:Book Discussion Beatrice Public Library
DESCRIPTION:Beatrice Public Library16th & Court StreetBeatrice\, NE Book Discussion\, featuring the memoir\, "Colored People" by Henry Louis Gates Jr. Thursday\, February 24\, 20107:30 p.m. Discussion Leader:  Carol RemmersCopies of the book are available at the library. For information call 402-223-3584
X-ALT-DESC;FMTTYPE=text/html:<div>Beatrice Public Library</div><div>16th &amp\;&nbsp\;Court Street</div><div>Beatrice\, NE</div><div>&nbsp\;</div><div>Book Discussion\, featuring the memoir\, &quot\;Colored People&quot\; by Henry Louis Gates Jr.</div><div>&nbsp\;</div><div>Thursday\, February 24\, 2010</div><div>7:30 p.m.</div><div>&nbsp\;</div><div>Discussion Leader: &nbsp\;Carol Remmers</div><div>Copies of the book are available at the library.</div><div>&nbsp\;</div><div>For information call 402-223-3584</div>
LOCATION:
UID:e.41.1660
SEQUENCE:3
DTSTAMP:20260425T164552Z
URL:https://business.beatricechamber.com/events/details/book-discussion-beatrice-public-library-02-25-2010-1660
END:VEVENT

END:VCALENDAR
