BEGIN:VCALENDAR
VERSION:2.0
PRODID:-//ChamberMaster//Event Calendar 2.0//EN
METHOD:PUBLISH
X-PUBLISHED-TTL:P3D
REFRESH-INTERVAL:P3D
CALSCALE:GREGORIAN
BEGIN:VEVENT
DTSTART;VALUE=DATE:20110212
DTEND;VALUE=DATE:20110214
TRANSP:TRANSPARENT
X-MICROSOFT-CDO-ALLDAYEVENT:TRUE
SUMMARY:Book Sale
DESCRIPTION:Book Sale at Beatrice Public Library\n\n\n\nFor more information\, call 402-223-3584
X-ALT-DESC;FMTTYPE=text/html:Book Sale at Beatrice Public Library<br />\n<br />\nFor more information\, call 402-223-3584
LOCATION:
UID:e.41.3289
SEQUENCE:3
DTSTAMP:20260424T225518Z
URL:https://business.beatricechamber.com/events/details/book-sale-02-12-2011-3289
END:VEVENT

END:VCALENDAR
