BEGIN:VCALENDAR
VERSION:2.0
PRODID:-//ChamberMaster//Event Calendar 2.0//EN
METHOD:PUBLISH
X-PUBLISHED-TTL:P3D
REFRESH-INTERVAL:P3D
CALSCALE:GREGORIAN
BEGIN:VEVENT
DTSTART:20110915T230000Z
DTEND:20110916T020000Z
X-MICROSOFT-CDO-ALLDAYEVENT:FALSE
SUMMARY:Bowhunter Education Course
DESCRIPTION:Nebraska Game and Parks certified bowhunting education course will be held at the Beatrice Gun Club\, 5940 W. Hoyt Rd. in September.  The course will start Sept. 6 and other classes will be Sept. 8\, 13\, and 15.  Student must attend all four classes to be certified.  Each class will be held from 6 p.m.-9 p.m.\n\n\n\nThere is NO charge for this course.  Registration must be complete online at www.huntsafenebraska.org as instructors are not able to register students.  For more information contact Robert Miller at 402-223-4787.
X-ALT-DESC;FMTTYPE=text/html:Nebraska Game and Parks certified bowhunting education course will be held at the Beatrice Gun Club\, 5940 W. Hoyt Rd.&nbsp\;in September.&nbsp\; The course will start Sept. 6 and other classes will be Sept. 8\, 13\, and 15.&nbsp\; Student must attend all four classes to be certified.&nbsp\; Each class will be held from 6 p.m.-9 p.m.<br />\n<br />\nThere is NO charge for this course.&nbsp\; Registration must be complete online at <a href="http://www.huntsafenebraska.org/">www.huntsafenebraska.org</a> as instructors are not able to register students.&nbsp\; For more information contact Robert Miller at 402-223-4787.<span _fck_bookmark="1" style="display: none">&nbsp\;</span>
LOCATION:
UID:e.41.5027
SEQUENCE:3
DTSTAMP:20260424T122720Z
URL:https://business.beatricechamber.com/events/details/bowhunter-education-course-09-15-2011-5027
END:VEVENT

END:VCALENDAR
