BEGIN:VCALENDAR
VERSION:2.0
PRODID:-//ChamberMaster//Event Calendar 2.0//EN
METHOD:PUBLISH
X-PUBLISHED-TTL:P3D
REFRESH-INTERVAL:P3D
CALSCALE:GREGORIAN
BEGIN:VEVENT
DTSTART;VALUE=DATE:20100504
DTEND;VALUE=DATE:20100505
TRANSP:TRANSPARENT
X-MICROSOFT-CDO-ALLDAYEVENT:TRUE
SUMMARY:BPS Elementary/Middle School Band Concert
DESCRIPTION:Beatrice Public Schools Elementary/Middle School Band Department Spring Concert Tuesday\, May 4\, 20107 p.m. Hevelone Center for Performing Arts at Beatrice High School Students in grades 5-8.  No admission will be charged\; donations accepted.  Directed by Dan Ehmke.
X-ALT-DESC;FMTTYPE=text/html:<div>Beatrice Public Schools Elementary/Middle School Band Department Spring Concert</div><div>&nbsp\;</div><div>Tuesday\, May 4\, 2010</div><div>7 p.m.</div><div>&nbsp\;</div><div>Hevelone Center for Performing Arts at Beatrice High School</div><div>&nbsp\;</div><div>Students in grades 5-8.&nbsp\; No admission will be charged\; donations accepted.&nbsp\; Directed by Dan Ehmke.</div>
LOCATION:
UID:e.41.1983
SEQUENCE:3
DTSTAMP:20260425T122320Z
URL:https://business.beatricechamber.com/events/details/bps-elementary-middle-school-band-concert-05-04-2010-1983
END:VEVENT

END:VCALENDAR
