BEGIN:VCALENDAR
VERSION:2.0
PRODID:-//ChamberMaster//Event Calendar 2.0//EN
METHOD:PUBLISH
X-PUBLISHED-TTL:P3D
REFRESH-INTERVAL:P3D
CALSCALE:GREGORIAN
BEGIN:VEVENT
DTSTART;VALUE=DATE:20120324
DTEND;VALUE=DATE:20120326
TRANSP:TRANSPARENT
X-MICROSOFT-CDO-ALLDAYEVENT:TRUE
SUMMARY:"Brave Little Tailor:" Community Players Children's Production
DESCRIPTION:"Brave Little Tailor:" Community Players Children's Production\n\n\n\nSaturday\, March 24\n\n7:30 pm\n\n\n\nSunday\, March 25\n\n7:30 pm\n\n\n\nCommunity Players Theatre\, 412 Ella St.\, Beatrice\n\n\n\nProduced by CP's after school program\, Acting Up. \n\n\n\nTickets: $10 for adults\; $5 for students.  Box office open weekdays\, noon-5:30 pm\, and two hours prior to performances.  402-228-1801.\n\n\n\nwww.beatricecommunityplayers.com
X-ALT-DESC;FMTTYPE=text/html:&quot\;Brave Little Tailor:&quot\; Community Players Children&#39\;s Production<br />\n<br />\nSaturday\, March 24<br />\n7:30 pm<br />\n<br />\nSunday\, March 25<br />\n7:30 pm<br />\n<br />\nCommunity Players Theatre\, 412 Ella St.\, Beatrice<br />\n<br />\nProduced by CP&#39\;s after school program\, Acting Up.&nbsp\;<br />\n<br />\nTickets: $10 for adults\; $5 for students.&nbsp\; Box office open weekdays\, noon-5:30 pm\, and two hours prior to performances.&nbsp\; 402-228-1801.<br />\n<br />\nwww.beatricecommunityplayers.com<br />\n
LOCATION:
UID:e.41.5429
SEQUENCE:3
DTSTAMP:20260422T173711Z
URL:https://business.beatricechamber.com/events/details/brave-little-tailor-community-players-children-s-production-03-24-2012-5429
END:VEVENT

END:VCALENDAR
