BEGIN:VCALENDAR
VERSION:2.0
PRODID:-//ChamberMaster//Event Calendar 2.0//EN
METHOD:PUBLISH
X-PUBLISHED-TTL:P3D
REFRESH-INTERVAL:P3D
CALSCALE:GREGORIAN
BEGIN:VEVENT
DTSTART;VALUE=DATE:20120219
DTEND;VALUE=DATE:20120220
TRANSP:TRANSPARENT
X-MICROSOFT-CDO-ALLDAYEVENT:TRUE
SUMMARY:Bridal Fair & Fashion Show
DESCRIPTION:Aunt Mary's Center with Grand Illusions:\n\nFirst Annual Bridal Fair and Fashion Show\n\n\n\nfeaturing Ellyn's Bridal & Savvi Formalwear\n\n\n\nSunday\, February 19\n\n1 - 4 pm\n\n\n\nAunt Mary's Center\, 111 South 8th Street\n\nBeatrice\, NE\n\n\n\n402-230-0156
X-ALT-DESC;FMTTYPE=text/html:Aunt Mary&#39\;s Center with Grand Illusions:<br />\nFirst Annual Bridal Fair and Fashion Show<br />\n<br />\nfeaturing Ellyn&#39\;s Bridal &amp\; Savvi Formalwear<br />\n<br />\nSunday\, February 19<br />\n1 - 4 pm<br />\n<br />\nAunt Mary&#39\;s Center\, 111 South 8th Street<br />\nBeatrice\, NE<br />\n<br />\n402-230-0156
LOCATION:
UID:e.41.5323
SEQUENCE:3
DTSTAMP:20260422T185735Z
URL:https://business.beatricechamber.com/events/details/bridal-fair-fashion-show-02-19-2012-5323
END:VEVENT

END:VCALENDAR
