BEGIN:VCALENDAR
VERSION:2.0
PRODID:-//ChamberMaster//Event Calendar 2.0//EN
METHOD:PUBLISH
X-PUBLISHED-TTL:P3D
REFRESH-INTERVAL:P3D
CALSCALE:GREGORIAN
BEGIN:VEVENT
DTSTART;VALUE=DATE:20101126
DTEND;VALUE=DATE:20101127
TRANSP:TRANSPARENT
X-MICROSOFT-CDO-ALLDAYEVENT:TRUE
SUMMARY:Brown's Tailgate Party
DESCRIPTION:Brown's Tailgate Party:\n\n\n\nOne Day Only Free Food & Drinks From Runza & Valentino's 11 AM To 3 PM\n\n\n\nDoor Buster Deal On UGG In-Stock Items Only $10 OFF 7 AM To Noon\n\n\n\n30% OFF 7 AM To 9 AM Entire Purchase\n\n\n\n20% OFF 9AM to Noon\n\n\n\nBrown's Shoe  Downtown Beatrice
X-ALT-DESC;FMTTYPE=text/html:<strong><span style="font-size: 14px\;">Brown&#39\;s Tailgate Party:</span></strong><br />\n<br />\nOne Day Only Free Food &amp\; Drinks From Runza &amp\; Valentino&#39\;s 11 AM To 3 PM<br />\n<br />\nDoor Buster Deal On UGG In-Stock Items Only $10 OFF 7 AM To Noon<br />\n<br />\n30% OFF 7 AM To 9 AM Entire Purchase<br />\n<br />\n20% OFF 9AM to Noon<br />\n<br />\nBrown&#39\;s Shoe&nbsp\; Downtown Beatrice<br />\n
LOCATION:
UID:e.41.2852
SEQUENCE:3
DTSTAMP:20260425T032434Z
URL:https://business.beatricechamber.com/events/details/brown-s-tailgate-party-11-26-2010-2852
END:VEVENT

END:VCALENDAR
