BEGIN:VCALENDAR
VERSION:2.0
PRODID:-//ChamberMaster//Event Calendar 2.0//EN
METHOD:PUBLISH
X-PUBLISHED-TTL:P3D
REFRESH-INTERVAL:P3D
CALSCALE:GREGORIAN
BEGIN:VEVENT
DTSTART;VALUE=DATE:20120211
DTEND;VALUE=DATE:20120212
TRANSP:TRANSPARENT
X-MICROSOFT-CDO-ALLDAYEVENT:TRUE
SUMMARY:BSDC Assessment Day
DESCRIPTION:Beatrice State Developmental Center - HR Representatives will be available from 9am to 1pm at BSDC campus to assist interested applicants with the application and assessment process.  Visit BSDC campus\, Adminstration Building.  For more information\, call us at 402-223-6152.
X-ALT-DESC;FMTTYPE=text/html:Beatrice State Developmental Center - HR Representatives will be available from 9am&nbsp\;to 1pm&nbsp\;at BSDC campus to assist interested applicants with the application and assessment process.&nbsp\; Visit BSDC campus\, Adminstration Building.&nbsp\; For more information\, call us at 402-223-6152.
LOCATION:Beatrice State Developmental Center
UID:e.41.5280
SEQUENCE:3
DTSTAMP:20260422T185217Z
URL:https://business.beatricechamber.com/events/details/bsdc-assessment-day-02-11-2012-5280
END:VEVENT

END:VCALENDAR
