BEGIN:VCALENDAR
VERSION:2.0
PRODID:-//ChamberMaster//Event Calendar 2.0//EN
METHOD:PUBLISH
X-PUBLISHED-TTL:P3D
REFRESH-INTERVAL:P3D
CALSCALE:GREGORIAN
BEGIN:VEVENT
DTSTART;VALUE=DATE:20120721
DTEND;VALUE=DATE:20120722
TRANSP:TRANSPARENT
X-MICROSOFT-CDO-ALLDAYEVENT:TRUE
SUMMARY:BSDC Certification Celebration
DESCRIPTION:Please join us in celebrating full federal certification of the BSDC campus.\n\n11am gazebo Dedication at Carstens Center\n\n11:30am Bear Creek Ribbon Cutting Ceremony with the Beatrice Chamber Ambassadors\n\n12:30 Certification Recognition Ceremony in the Gym\n\nBBQ lunch will be served in the Gym from 11:30am - 1:00pm\n\nPlease RSVP for lunch to : Russell.Fralin@nebraska.gov or call 402-223-6827
X-ALT-DESC;FMTTYPE=text/html:Please join us in celebrating full federal certification of the BSDC&nbsp\;campus.<br />\n11am gazebo Dedication at Carstens Center<br />\n11:30am Bear Creek Ribbon Cutting Ceremony with the Beatrice Chamber Ambassadors<br />\n12:30 Certification Recognition Ceremony in the Gym<br />\nBBQ lunch will be served in the Gym from 11:30am&nbsp\;- 1:00pm<br />\nPlease RSVP for lunch to : Russell.Fralin@nebraska.gov or call 402-223-6827
LOCATION:
UID:e.41.6324
SEQUENCE:3
DTSTAMP:20260422T113422Z
URL:https://business.beatricechamber.com/events/details/bsdc-certification-celebration-07-21-2012-6324
END:VEVENT

END:VCALENDAR
