BEGIN:VCALENDAR
VERSION:2.0
PRODID:-//ChamberMaster//Event Calendar 2.0//EN
METHOD:PUBLISH
X-PUBLISHED-TTL:P3D
REFRESH-INTERVAL:P3D
CALSCALE:GREGORIAN
BEGIN:VEVENT
DTSTART;VALUE=DATE:20100221
DTEND;VALUE=DATE:20100222
TRANSP:TRANSPARENT
X-MICROSOFT-CDO-ALLDAYEVENT:TRUE
SUMMARY:Buffalo Soldier Event 2/21/10
DESCRIPTION:Buffalo Soldier Event\, in honor of Black History MonthHosted by Homestead National Monument of America Buffalo Soldier reenactor Barry TompkinsSunday\, February 21\, 2 p.m.Education Center For more information\, visit Homestead's Website at www.nps.gov/home or call 402-223-3514
X-ALT-DESC;FMTTYPE=text/html:<div>Buffalo Soldier Event\, in honor of Black History Month</div><div>Hosted by Homestead National Monument of America</div><div>&nbsp\;</div><div>Buffalo Soldier reenactor Barry Tompkins</div><div>Sunday\, February 21\, 2 p.m.</div><div>Education Center</div><div>&nbsp\;</div><div>For more information\, visit Homestead's Website at <a href="http://www.nps.gov/home">www.nps.gov/home</a> or call 402-223-3514</div>
LOCATION:
UID:e.41.1652
SEQUENCE:3
DTSTAMP:20260425T165457Z
URL:https://business.beatricechamber.com/events/details/buffalo-soldier-event-2-21-10-02-21-2010-1652
END:VEVENT

END:VCALENDAR
