BEGIN:VCALENDAR
VERSION:2.0
PRODID:-//ChamberMaster//Event Calendar 2.0//EN
METHOD:PUBLISH
X-PUBLISHED-TTL:P3D
REFRESH-INTERVAL:P3D
CALSCALE:GREGORIAN
BEGIN:VEVENT
DTSTART:20091020T000000Z
DTEND:20091020T010000Z
X-MICROSOFT-CDO-ALLDAYEVENT:FALSE
SUMMARY:Bully B.U.S.T.E.R.
DESCRIPTION:A Bully B.U.S.T.E.R. workshop\, open to youth and parent who are interested in developing skills to prevent being a victim of bullying\, is being presented. Monday\, October 19 at 7:00 pmSt John Lutheran Church701 S 6th St This class will utilize "Batman" as the basis of discussion and the basis of discussion and the presentation of the skills. Contact Joni Bruhn at 223-5268 for more information
X-ALT-DESC;FMTTYPE=text/html:<div>A Bully B.U.S.T.E.R. workshop\, open to youth and parent who are interested in developing skills to prevent being a victim of bullying\, is being presented.</div><div>&nbsp\;</div><div>Monday\, October 19 at 7:00 pm</div><div>St John Lutheran Church</div><div>701 S 6th St</div><div>&nbsp\;</div><div>This class will utilize &quot\;Batman&quot\; as the basis of discussion and the basis of discussion and the presentation of the skills.</div><div>&nbsp\;</div><div>Contact Joni Bruhn at 223-5268 for more information</div>
LOCATION:
UID:e.41.1487
SEQUENCE:3
DTSTAMP:20260425T221213Z
URL:https://business.beatricechamber.com/events/details/bully-b-u-s-t-e-r-10-19-2009-1487
END:VEVENT

END:VCALENDAR
