BEGIN:VCALENDAR
VERSION:2.0
PRODID:-//ChamberMaster//Event Calendar 2.0//EN
METHOD:PUBLISH
X-PUBLISHED-TTL:P3D
REFRESH-INTERVAL:P3D
CALSCALE:GREGORIAN
BEGIN:VEVENT
DTSTART;VALUE=DATE:20100212
DTEND;VALUE=DATE:20100215
TRANSP:TRANSPARENT
X-MICROSOFT-CDO-ALLDAYEVENT:TRUE
SUMMARY:Burger King - Grand Reopening
DESCRIPTION:Grand Re-opening!Friday - Saturday - SundayFebruary 12 -13-14 Burger King501 N 6thBeatrice\, NE Register all three days to win prizes from Burger King!  Mountain Bikes\, Razor Ripstik Caster Boards\, Igloo Cool Fusion 40 Icy Tunes\, Chill N Grill\, Lots of Food Prizes!
X-ALT-DESC;FMTTYPE=text/html:<div><span style="font-size: small">Grand Re-opening!</span></div><div><span style="font-size: small">Friday - Saturday - Sunday</span></div><div><span style="font-size: small">February 12 -13-14</span></div><div>&nbsp\;</div><div><span style="font-size: small">Burger King</span></div><div><span style="font-size: small">501 N 6th</span></div><div><span style="font-size: small">Beatrice\, NE</span></div><div>&nbsp\;</div><div><span style="font-size: small">Register all three days to win prizes from Burger King!&nbsp\; Mountain Bikes\, Razor Ripstik Caster Boards\, Igloo Cool Fusion 40 Icy Tunes\, Chill N Grill\, Lots of Food Prizes!</span></div><div>&nbsp\;</div><div>&nbsp\;</div>
LOCATION:
UID:e.41.1640
SEQUENCE:3
DTSTAMP:20260425T165455Z
URL:https://business.beatricechamber.com/events/details/burger-king-grand-reopening-02-12-2010-1640
END:VEVENT

END:VCALENDAR
