BEGIN:VCALENDAR
VERSION:2.0
PRODID:-//ChamberMaster//Event Calendar 2.0//EN
METHOD:PUBLISH
X-PUBLISHED-TTL:P3D
REFRESH-INTERVAL:P3D
CALSCALE:GREGORIAN
BEGIN:VEVENT
DTSTART;VALUE=DATE:20100225
DTEND;VALUE=DATE:20100226
TRANSP:TRANSPARENT
X-MICROSOFT-CDO-ALLDAYEVENT:TRUE
SUMMARY:Burwood Books Sack Sale!
DESCRIPTION:Burwood Books Sack Sale!February 25\, 10 a.m. - 7 p.m. Paper bags\, $8Plastic bags\, $6Bags provided. The used bookstore supports Mother to Mother Ministry
X-ALT-DESC;FMTTYPE=text/html:<div>Burwood Books Sack Sale!</div><div>February 25\, 10 a.m. - 7 p.m.</div><div>&nbsp\;</div><div>Paper bags\, $8</div><div>Plastic bags\, $6</div><div>Bags provided.</div><div>&nbsp\;</div><div>The used bookstore supports Mother to Mother Ministry</div>
LOCATION:Burwood Books111 S. 4th StreetBeatrice\, NE
UID:e.41.1608
SEQUENCE:3
DTSTAMP:20260425T165725Z
URL:https://business.beatricechamber.com/events/details/burwood-books-sack-sale-02-25-2010-1608
END:VEVENT

END:VCALENDAR
