BEGIN:VCALENDAR
VERSION:2.0
PRODID:-//ChamberMaster//Event Calendar 2.0//EN
METHOD:PUBLISH
X-PUBLISHED-TTL:P3D
REFRESH-INTERVAL:P3D
CALSCALE:GREGORIAN
BEGIN:VEVENT
DTSTART:20110824T150000Z
DTEND:20110824T230000Z
X-MICROSOFT-CDO-ALLDAYEVENT:FALSE
SUMMARY:Burwood Books Sack Sale
DESCRIPTION:10 a.m.-6 p.m.\, Burwood Books\, 111 S. 5th St.\, Beatrice.  Paper bags\, $8. Plastic bags $6.  Sacks provided.  Books\, videos\, movies\, puzzles\, games\, and greeting cards.
X-ALT-DESC;FMTTYPE=text/html:10 a.m.-6 p.m.\, Burwood Books\, 111 S. 5th St.\, Beatrice.&nbsp\; Paper bags\, $8. Plastic bags $6.&nbsp\; Sacks provided.&nbsp\; Books\, videos\, movies\, puzzles\, games\, and greeting cards.&nbsp\; 
LOCATION:
UID:e.41.5068
SEQUENCE:3
DTSTAMP:20260424T135830Z
URL:https://business.beatricechamber.com/events/details/burwood-books-sack-sale-08-24-2011-5068
END:VEVENT

END:VCALENDAR
