BEGIN:VCALENDAR
VERSION:2.0
PRODID:-//ChamberMaster//Event Calendar 2.0//EN
METHOD:PUBLISH
X-PUBLISHED-TTL:P3D
REFRESH-INTERVAL:P3D
CALSCALE:GREGORIAN
BEGIN:VEVENT
DTSTART;VALUE=DATE:20111117
DTEND;VALUE=DATE:20111118
TRANSP:TRANSPARENT
X-MICROSOFT-CDO-ALLDAYEVENT:TRUE
SUMMARY:Burwood Books Sack Sale
DESCRIPTION:Burwood Books Sack Sale\n\n\n\nThursday\, November 17\n\n10 am - 6 pm\n\n\n\n111 S 5th Street\n\nBeatrice\, NE  68310\n\n\n\nPaper bags will be $8 and plastic bags\, $6\, with sacks provided.  The sale includes books\, videos\, movies\, puzzles\, games and greeting cards.
X-ALT-DESC;FMTTYPE=text/html:Burwood Books Sack Sale<br />\n<br />\nThursday\, November 17<br />\n10 am - 6 pm<br />\n<br />\n111 S 5th Street<br />\nBeatrice\, NE&nbsp\; 68310<br />\n<br />\nPaper bags will be $8 and plastic bags\, $6\, with sacks provided.&nbsp\; The sale includes books\, videos\, movies\, puzzles\, games and greeting cards.
LOCATION:
UID:e.41.5251
SEQUENCE:3
DTSTAMP:20260424T100033Z
URL:https://business.beatricechamber.com/events/details/burwood-books-sack-sale-11-17-2011-5251
END:VEVENT

END:VCALENDAR
