BEGIN:VCALENDAR
VERSION:2.0
PRODID:-//ChamberMaster//Event Calendar 2.0//EN
METHOD:PUBLISH
X-PUBLISHED-TTL:P3D
REFRESH-INTERVAL:P3D
CALSCALE:GREGORIAN
BEGIN:VEVENT
DTSTART:20101118T160000Z
DTEND:20101119T010000Z
X-MICROSOFT-CDO-ALLDAYEVENT:FALSE
SUMMARY:Burwood Books Sack Sale
DESCRIPTION:Burwood Books Sack Sale\n\n\n\n10:00 a.m.- 7 p.m. Burwood Books\, 111 S. 4th St.\, Beatrice\n\n\n\nPaper bags $8\, plastic bags $6. Sacks provided. The used bookstore supports Mother to Mother Ministry.
X-ALT-DESC;FMTTYPE=text/html:<strong><span style="font-size: 14px">Burwood Books Sack Sale</span></strong><br />\n<br />\n10:00 a.m.- 7 p.m. Burwood Books\, 111 S. 4th St.\, Beatrice<br />\n<br />\nPaper bags $8\, plastic bags $6. Sacks provided. The used bookstore supports Mother to Mother Ministry.
LOCATION:
UID:e.41.2799
SEQUENCE:3
DTSTAMP:20260425T032936Z
URL:https://business.beatricechamber.com/events/details/burwood-books-sack-sale-11-18-2010-2799
END:VEVENT

END:VCALENDAR
