BEGIN:VCALENDAR
VERSION:2.0
PRODID:-//ChamberMaster//Event Calendar 2.0//EN
METHOD:PUBLISH
X-PUBLISHED-TTL:P3D
REFRESH-INTERVAL:P3D
CALSCALE:GREGORIAN
BEGIN:VEVENT
DTSTART:20101216T160000Z
DTEND:20101217T000000Z
X-MICROSOFT-CDO-ALLDAYEVENT:FALSE
SUMMARY:Burwood Books Sack Sale
DESCRIPTION:Sack Sale. 10 a.m. - 6 p.m.. Burwood Books\, 111 S. 4th St.\, Beatrice. Paper bags $8\, plastic bags $6. Sacks provided. The used bookstore supports Mother to Mother Ministry.
X-ALT-DESC;FMTTYPE=text/html:<span style="font-size: 16px\;"><strong>Sack Sale. 10 a.m. - 6 p.m.. Burwood Books\, 111 S. 4th St.\, Beatrice. Paper bags $8\, plastic bags $6. Sacks provided. The used bookstore supports Mother to Mother Ministry.</strong></span>
LOCATION:
UID:e.41.2862
SEQUENCE:3
DTSTAMP:20260425T015323Z
URL:https://business.beatricechamber.com/events/details/burwood-books-sack-sale-12-16-2010-2862
END:VEVENT

END:VCALENDAR
