BEGIN:VCALENDAR
VERSION:2.0
PRODID:-//ChamberMaster//Event Calendar 2.0//EN
METHOD:PUBLISH
X-PUBLISHED-TTL:P3D
REFRESH-INTERVAL:P3D
CALSCALE:GREGORIAN
BEGIN:VEVENT
DTSTART:20110630T150000Z
DTEND:20110630T230000Z
X-MICROSOFT-CDO-ALLDAYEVENT:FALSE
SUMMARY:Burwood Books Sale
DESCRIPTION:Burwood Books used book store is holding its next sale on Thursday\, June 30 from 10 a.m.-6 p.m. at 111 S. Fifth St.\, Beatrice.\n\n\n\nBooks\, videos\, movies\, puzzles\, games\, and greeting cards will be for sale\; paper bags\, $8\; plastic bags\, $6.  Sacks will be provided.\n\n\n\nThe used bookstore supports Mother to Mother Ministry.
X-ALT-DESC;FMTTYPE=text/html:Burwood Books used book store is holding its next sale on Thursday\, June 30 from 10 a.m.-6 p.m. at 111 S. Fifth St.\, Beatrice.<br />\n<br />\nBooks\, videos\, movies\, puzzles\, games\, and&nbsp\;greeting cards will be for sale\; paper bags\, $8\; plastic bags\, $6.&nbsp\; Sacks will be provided.<br />\n<br />\nThe used bookstore supports Mother to Mother Ministry.
LOCATION:
UID:e.41.4928
SEQUENCE:3
DTSTAMP:20260424T165906Z
URL:https://business.beatricechamber.com/events/details/burwood-books-sale-06-30-2011-4928
END:VEVENT

END:VCALENDAR
