BEGIN:VCALENDAR
VERSION:2.0
PRODID:-//ChamberMaster//Event Calendar 2.0//EN
METHOD:PUBLISH
X-PUBLISHED-TTL:P3D
REFRESH-INTERVAL:P3D
CALSCALE:GREGORIAN
BEGIN:VEVENT
DTSTART:20100218T230000Z
DTEND:20100219T010000Z
X-MICROSOFT-CDO-ALLDAYEVENT:FALSE
SUMMARY:Business After Hours
DESCRIPTION:Please join us for the Beatrice Area Chamber of Commerce and Gage County Tourism Business After Hours at D' Andrea Real Estate from 5 - 7 p.m. It's a great opportunity to learn about our local Chamber business members!
X-ALT-DESC;FMTTYPE=text/html:<div>Please join us for the&nbsp\;Beatrice Area Chamber of Commerce and Gage County Tourism Business After Hours at D' Andrea Real Estate from 5 - 7 p.m. It's a great opportunity to learn about our local Chamber business members!</div>
LOCATION:D'Andrea Real Estate226 S. 6th StreetBeatrice\, NE 68310
UID:e.41.1579
SEQUENCE:3
DTSTAMP:20260425T164520Z
URL:https://business.beatricechamber.com/events/details/business-after-hours-02-18-2010-1579
END:VEVENT

END:VCALENDAR
