BEGIN:VCALENDAR
VERSION:2.0
PRODID:-//ChamberMaster//Event Calendar 2.0//EN
METHOD:PUBLISH
X-PUBLISHED-TTL:P3D
REFRESH-INTERVAL:P3D
CALSCALE:GREGORIAN
BEGIN:VEVENT
DTSTART:20120315T220000Z
DTEND:20120316T000000Z
X-MICROSOFT-CDO-ALLDAYEVENT:FALSE
SUMMARY:Business After Hours Woods Bros. Realty
DESCRIPTION:Beatrice Area Chamber's Business After Hours\n\n	\n\n	hosted by:\n\n	Woods Bros Realty\n\n	1824 N 6th Street\n\n	Beatrice\, NE\n\n	\n\n	Thursday\, March 15\n\n	5 - 7 pm\n\n	\n\n	Chamber members & their employees are welcome to attend!\n\n	\n\n	For more information\, call 402-223-2338.
X-ALT-DESC;FMTTYPE=text/html:<p>\n	Beatrice Area Chamber&#39\;s Business After Hours<br />\n	<br />\n	hosted by:<br />\n	Woods Bros Realty<br />\n	1824 N 6th Street<br />\n	Beatrice\, NE<br />\n	<br />\n	Thursday\, March 15<br />\n	5 - 7 pm<br />\n	<br />\n	Chamber members &amp\; their employees are welcome to attend!<br />\n	<br />\n	For more information\, call 402-223-2338.<br />\n	&nbsp\;</p>\n
LOCATION:
UID:e.41.5395
SEQUENCE:3
DTSTAMP:20260422T173414Z
URL:https://business.beatricechamber.com/events/details/business-after-hours-woods-bros-realty-03-15-2012-5395
END:VEVENT

END:VCALENDAR
