BEGIN:VCALENDAR
VERSION:2.0
PRODID:-//ChamberMaster//Event Calendar 2.0//EN
METHOD:PUBLISH
X-PUBLISHED-TTL:P3D
REFRESH-INTERVAL:P3D
CALSCALE:GREGORIAN
BEGIN:VEVENT
DTSTART:20100427T170000Z
DTEND:20100427T183000Z
X-MICROSOFT-CDO-ALLDAYEVENT:FALSE
SUMMARY:Business Awards Luncheon 4/27/10
DESCRIPTION:"90 Years and Still on Track!" 5th Annual Business Awards LuncheonTuesday\, April 27\, 2010Noon - 1:30 p.m. Holiday Inn Express Hotel & Suites4005 N 6th Beatrice\, NE Please join us in celebrating Beatrice's outstanding businesses\, volunteers and employees! Please RSVP by April 16\; Tickets $12\, after April 16th tickets are $15.  Contact Beatrice Area Chamber of Commerce - 402-223-2338 For Awards Luncheon Nomination Forms\, Please Click this link:secure.chambermaster.com/FCKeditor/UserFiles/chambers/41/File/Business%20of%20the%20Year%20forms%202010.pdf
X-ALT-DESC;FMTTYPE=text/html:<div style="text-align: center"><u><strong><span style="font-size: large">&quot\;90 Years and Still on Track!&quot\;</span></strong></u></div><div style="text-align: center">&nbsp\;</div><div style="text-align: center"><span style="font-size: large">5th Annual Business Awards Luncheon</span></div><div style="text-align: center"><strong><span style="font-size: large">Tuesday\, April 27\, 2010</span></strong></div><div style="text-align: center"><span style="font-size: large">Noon - 1:30 p.m.</span></div><div style="text-align: center">&nbsp\;</div><div style="text-align: center"><span style="font-size: medium">Holiday Inn Express Hotel &amp\; Suites</span></div><div style="text-align: center"><span style="font-size: medium">4005 N 6th </span></div><div style="text-align: center"><span style="font-size: medium">Beatrice\, NE</span></div><div style="text-align: center">&nbsp\;</div><div style="text-align: center"><span style="font-size: small">Please join us in celebrating Beatrice&rsquo\;s outstanding businesses\, volunteers and employees!</span></div><div style="text-align: center">&nbsp\;</div><div style="text-align: center"><span style="font-size: small">Please RSVP by April 16\; Tickets $12\, after April 16th tickets are $15.&nbsp\; Contact Beatrice Area Chamber of Commerce - 402-223-2338</span></div><div style="text-align: center">&nbsp\;</div><div style="text-align: center"><span style="font-size: small">For Awards Luncheon Nomination Forms\, Please Click this link:</span></div><div style="text-align: center"><span style="font-size: small"><a href="https://secure.chambermaster.com/FCKeditor/UserFiles/chambers/41/File/Business%20of%20the%20Year%20forms%202010.pdf">secure.chambermaster.com/FCKeditor/UserFiles/chambers/41/File/Business%20of%20the%20Year%20forms%202010.pdf</a></span></div><div style="text-align: center">&nbsp\;</div>
LOCATION:Holiday Inn Express Hotel & Suites4005 N 6thBeatrice\, NE
UID:e.41.1643
SEQUENCE:3
DTSTAMP:20260425T135535Z
URL:https://business.beatricechamber.com/events/details/business-awards-luncheon-4-27-10-04-27-2010-1643
END:VEVENT

END:VCALENDAR
